BEGIN:VCALENDAR
VERSION:2.0
PRODID:-//wp-events-plugin.com//7.2.3.1//EN
TZID:Europe/Rome
X-WR-TIMEZONE:Europe/Rome
BEGIN:VEVENT
UID:2168@vuotiarendere.org
DTSTART;TZID=Europe/Rome:20251007T180000
DTEND;TZID=Europe/Rome:20251007T200000
DTSTAMP:20251008T125611Z
URL:https://www.vuotiarendere.org/eventi/festival-var-le-mani-sulluniversi
 ta/
SUMMARY:Festival-VaR: Le mani sull'università
DESCRIPTION:Diritto allo studio\, speculazione e abitare studentesco\n\nCom
 e influenzano le residenze universitarie la nostra città? Parliamo degli 
 effetti della speculazione immobiliare sul diritto allo studio e sulle con
 dizioni di vita degli studenti: quali sono le sfide attuali e le possibili
  soluzioni per garantire spazi accessibili e sostenibili.\n\n🎤 Ne parli
 amo con:\n𝐌𝐚𝐭𝐭𝐢𝐚 𝐅𝐢𝐨𝐫𝐞 – Università di
  Bologna\n𝐔𝐃𝐔 – Unione Degli Universitari\n𝐂𝐨𝐥𝐥𝐞
 𝐭𝐭𝐢𝐯𝐨 𝐀𝐥𝐭𝐞𝐫.𝐏𝐎𝐋𝐈𝐒
ATTACH;FMTTYPE=image/jpeg:https://www.vuotiarendere.org/wp-content/uploads
 /2025/10/Evento-7-ottobre-1.png
CATEGORIES:banchetto singolo,evento
LOCATION:Centro Comala\, Corso Francesco Ferrucci 65/a\, Torino\, Italia
GEO:45.069422;7.655636
X-APPLE-STRUCTURED-LOCATION;VALUE=URI;X-ADDRESS=Corso Francesco Ferrucci 65
 /a\, Torino\, Italia;X-APPLE-RADIUS=100;X-TITLE=Centro Comala:geo:45.06942
 2,7.655636
END:VEVENT
BEGIN:VTIMEZONE
TZID:Europe/Rome
X-LIC-LOCATION:Europe/Rome
BEGIN:DAYLIGHT
DTSTART:20250330T030000
TZOFFSETFROM:+0100
TZOFFSETTO:+0200
TZNAME:CEST
END:DAYLIGHT
END:VTIMEZONE
END:VCALENDAR