BEGIN:VCALENDAR
VERSION:2.0
PRODID:-//wp-events-plugin.com//7.2.3.1//EN
TZID:Europe/Rome
X-WR-TIMEZONE:Europe/Rome
BEGIN:VEVENT
UID:2025@vuotiarendere.org
DTSTART;TZID=Europe/Rome:20240326T103000
DTEND;TZID=Europe/Rome:20240326T193000
DTSTAMP:20240325T153209Z
URL:https://www.vuotiarendere.org/eventi/fumetteria-neotokio-mar-ven-2024-
 03-26/
SUMMARY:Fumetteria NeoTokio mar-ven
DESCRIPTION:
CATEGORIES:banchetto periodico,evento
LOCATION:Fumetteria NeoTokio\, corso Lombardia 144\, Torino\, Italia
GEO:45.099776;7.651544
X-APPLE-STRUCTURED-LOCATION;VALUE=URI;X-ADDRESS=corso Lombardia 144\, Torin
 o\, Italia;X-APPLE-RADIUS=100;X-TITLE=Fumetteria NeoTokio:geo:45.099776,7.
 651544
END:VEVENT
BEGIN:VTIMEZONE
TZID:Europe/Rome
X-LIC-LOCATION:Europe/Rome
BEGIN:STANDARD
DTSTART:20231029T020000
TZOFFSETFROM:+0200
TZOFFSETTO:+0100
TZNAME:CET
END:STANDARD
END:VTIMEZONE
END:VCALENDAR