BEGIN:VCALENDAR
VERSION:2.0
PRODID:-//wp-events-plugin.com//7.2.3.1//EN
TZID:Europe/Rome
X-WR-TIMEZONE:Europe/Rome
BEGIN:VEVENT
UID:2041@vuotiarendere.org
DTSTART;TZID=Europe/Rome:20240423T103000
DTEND;TZID=Europe/Rome:20240423T193000
DTSTAMP:20240325T153209Z
URL:https://www.vuotiarendere.org/eventi/fumetteria-neotokio-mar-ven-2024-
 04-23/
SUMMARY:Fumetteria NeoTokio mar-ven
DESCRIPTION:
CATEGORIES:banchetto periodico,evento
LOCATION:Fumetteria NeoTokio\, corso Lombardia 144\, Torino\, Italia
GEO:45.099776;7.651544
X-APPLE-STRUCTURED-LOCATION;VALUE=URI;X-ADDRESS=corso Lombardia 144\, Torin
 o\, Italia;X-APPLE-RADIUS=100;X-TITLE=Fumetteria NeoTokio:geo:45.099776,7.
 651544
END:VEVENT
BEGIN:VTIMEZONE
TZID:Europe/Rome
X-LIC-LOCATION:Europe/Rome
BEGIN:DAYLIGHT
DTSTART:20240331T030000
TZOFFSETFROM:+0100
TZOFFSETTO:+0200
TZNAME:CEST
END:DAYLIGHT
END:VTIMEZONE
END:VCALENDAR