BEGIN:VCALENDAR
VERSION:2.0
PRODID:-//wp-events-plugin.com//7.2.3.1//EN
TZID:Europe/Rome
X-WR-TIMEZONE:Europe/Rome
BEGIN:VEVENT
UID:251@vuotiarendere.org
DTSTART;TZID=Europe/Rome:20240419T093000
DTEND;TZID=Europe/Rome:20240419T234500
DTSTAMP:20240204T210743Z
URL:https://www.vuotiarendere.org/eventi/in-settimana-al-circolo-arci-riso
 rgimento-mattina-2024-04-19/
SUMMARY:Circolo Arci Risorgimento
DESCRIPTION:
CATEGORIES:banchetto periodico
LOCATION:Circolo Arci Risorgimento\, Via Poggio 16\, Torino\, Italia
GEO:45.098876;7.696413
X-APPLE-STRUCTURED-LOCATION;VALUE=URI;X-ADDRESS=Via Poggio 16\, Torino\, It
 alia;X-APPLE-RADIUS=100;X-TITLE=Circolo Arci Risorgimento:geo:45.098876,7.
 696413
END:VEVENT
BEGIN:VTIMEZONE
TZID:Europe/Rome
X-LIC-LOCATION:Europe/Rome
BEGIN:DAYLIGHT
DTSTART:20240331T030000
TZOFFSETFROM:+0100
TZOFFSETTO:+0200
TZNAME:CEST
END:DAYLIGHT
END:VTIMEZONE
END:VCALENDAR