BEGIN:VCALENDAR
VERSION:2.0
PRODID:-//wp-events-plugin.com//7.2.3.1//EN
TZID:Europe/Rome
X-WR-TIMEZONE:Europe/Rome
BEGIN:VEVENT
UID:2170@vuotiarendere.org
DTSTART;TZID=Europe/Rome:20251115T160000
DTEND;TZID=Europe/Rome:20251115T235900
DTSTAMP:20251114T085419Z
URL:https://www.vuotiarendere.org/eventi/manifestazione-cittadina-per-il-d
 iritto-allabitare/
SUMMARY:Manifestazione cittadina per il diritto all’abitare
DESCRIPTION:La casa è un diritto\, non una merce. Torino scende in piazza 
 sabato 15 novembre 2025 alle ore 16:00 per chiedere politiche pubbliche gi
 uste e coraggiose contro una crisi abitativa sempre più profonda. Con olt
 re 1.300 sfratti nel 2024\, affitti aumentati del 30% in quattro anni e ce
 ntinaia di case pubbliche vuote\, il diritto all’abitare è oggi negato 
 a migliaia di persone.\n\nDisuguaglianze\, discriminazioni e precarietà s
 tanno spezzando il patto sociale: per questo RAMA – Rete Antirazzista e 
 Militante per l’Abitare e Vuoti a Rendere convocano una grande manifesta
 zione cittadina per difendere il diritto alla casa per tuttə.
ATTACH;FMTTYPE=image/jpeg:https://www.vuotiarendere.org/wp-content/uploads
 /2025/10/LOCANDINA.png
CATEGORIES:evento
LOCATION:Piazza Lascaris\, via Vittorio Alfieri 15\, Torino\, Italia
GEO:45.068076;7.678814
X-APPLE-STRUCTURED-LOCATION;VALUE=URI;X-ADDRESS=via Vittorio Alfieri 15\, T
 orino\, Italia;X-APPLE-RADIUS=100;X-TITLE=Piazza Lascaris:geo:45.068076,7.
 678814
END:VEVENT
BEGIN:VTIMEZONE
TZID:Europe/Rome
X-LIC-LOCATION:Europe/Rome
BEGIN:STANDARD
DTSTART:20251026T020000
TZOFFSETFROM:+0200
TZOFFSETTO:+0100
TZNAME:CET
END:STANDARD
END:VTIMEZONE
END:VCALENDAR