BEGIN:VCALENDAR
VERSION:2.0
PRODID:-//wp-events-plugin.com//7.2.3.1//EN
TZID:Europe/Rome
X-WR-TIMEZONE:Europe/Rome
BEGIN:VEVENT
UID:2162@vuotiarendere.org
DTSTART;TZID=Europe/Rome:20241102T103000
DTEND;TZID=Europe/Rome:20241102T120000
DTSTAMP:20241101T115918Z
URL:https://www.vuotiarendere.org/eventi/passeggiata-di-quartiere-nuova-da
 ta/
SUMMARY:Passeggiata di quartiere – NUOVA DATA
DESCRIPTION:Recupero della passeggiata annullata per pioggia il 26 ottobre.
 \n\n📆 Sabato 2 novembre\, H 10:30\n📍 Ritrovo e partenza ai Giardini 
 Alimonda
ATTACH;FMTTYPE=image/jpeg:https://www.vuotiarendere.org/wp-content/uploads
 /2024/11/24-10-31.png
CATEGORIES:evento
LOCATION:Giardini Alimonda\, via Gaetano Alimonda 16\, Torino\, Italia
GEO:45.086545;7.690925
X-APPLE-STRUCTURED-LOCATION;VALUE=URI;X-ADDRESS=via Gaetano Alimonda 16\, T
 orino\, Italia;X-APPLE-RADIUS=100;X-TITLE=Giardini Alimonda:geo:45.086545,
 7.690925
END:VEVENT
BEGIN:VTIMEZONE
TZID:Europe/Rome
X-LIC-LOCATION:Europe/Rome
BEGIN:STANDARD
DTSTART:20241027T020000
TZOFFSETFROM:+0200
TZOFFSETTO:+0100
TZNAME:CET
END:STANDARD
END:VTIMEZONE
END:VCALENDAR