BEGIN:VCALENDAR
VERSION:2.0
PRODID:-//wp-events-plugin.com//7.2.3.1//EN
TZID:Europe/Rome
X-WR-TIMEZONE:Europe/Rome
BEGIN:VEVENT
UID:790@vuotiarendere.org
DTSTART;TZID=Europe/Rome:20240308T100000
DTEND;TZID=Europe/Rome:20240308T180000
DTSTAMP:20240213T213416Z
URL:https://www.vuotiarendere.org/eventi/piu-spazio-4-casa-del-quartiere-s
 an-donato-2024-03-08/
SUMMARY:Più Spazio 4 | Casa del quartiere San Donato
DESCRIPTION:
CATEGORIES:banchetto periodico
LOCATION:Più Spazio4 Casa del Quartiere\, via Saccarelli 18 \, Torino\, To
 rino\, 10144\, Piemonte\, Italia
GEO:45.080321;7.666702
X-APPLE-STRUCTURED-LOCATION;VALUE=URI;X-ADDRESS=via Saccarelli 18 \, Torino
 \, Torino\, 10144\, Piemonte\, Italia;X-APPLE-RADIUS=100;X-TITLE=Più Spaz
 io4 Casa del Quartiere:geo:45.080321,7.666702
END:VEVENT
BEGIN:VTIMEZONE
TZID:Europe/Rome
X-LIC-LOCATION:Europe/Rome
BEGIN:STANDARD
DTSTART:20231029T020000
TZOFFSETFROM:+0200
TZOFFSETTO:+0100
TZNAME:CET
END:STANDARD
END:VTIMEZONE
END:VCALENDAR