BEGIN:VCALENDAR
VERSION:2.0
PRODID:-//wp-events-plugin.com//7.2.3.1//EN
TZID:Europe/Rome
X-WR-TIMEZONE:Europe/Rome
BEGIN:VEVENT
UID:1569@vuotiarendere.org
DTSTART;TZID=Europe/Rome:20240509T143000
DTEND;TZID=Europe/Rome:20240509T170000
DTSTAMP:20240227T211902Z
URL:https://www.vuotiarendere.org/eventi/spi-cgil-via-elvo-13-pomeriggio-2
 024-05-09/
SUMMARY:SPI CGIL Lega 6 | Via Elvo 13 - pomeriggio
DESCRIPTION:
LOCATION:SPI CGIL Lega 6\, via Elvo 13\, Torino\, Italia
GEO:45.091545;7.691334
X-APPLE-STRUCTURED-LOCATION;VALUE=URI;X-ADDRESS=via Elvo 13\, Torino\, Ital
 ia;X-APPLE-RADIUS=100;X-TITLE=SPI CGIL Lega 6:geo:45.091545,7.691334
END:VEVENT
BEGIN:VTIMEZONE
TZID:Europe/Rome
X-LIC-LOCATION:Europe/Rome
BEGIN:DAYLIGHT
DTSTART:20240331T030000
TZOFFSETFROM:+0100
TZOFFSETTO:+0200
TZNAME:CEST
END:DAYLIGHT
END:VTIMEZONE
END:VCALENDAR